BEGIN:VCALENDAR
VERSION:2.0
PRODID:-//Trade Sense Community - ECPv6.3.4//NONSGML v1.0//EN
CALSCALE:GREGORIAN
METHOD:PUBLISH
X-WR-CALNAME:Trade Sense Community
X-ORIGINAL-URL:https://tradesensecommunity.com
X-WR-CALDESC:Events for Trade Sense Community
REFRESH-INTERVAL;VALUE=DURATION:PT1H
X-Robots-Tag:noindex
X-PUBLISHED-TTL:PT1H
BEGIN:VTIMEZONE
TZID:UTC
BEGIN:STANDARD
TZOFFSETFROM:+0000
TZOFFSETTO:+0000
TZNAME:UTC
DTSTART:20240101T000000
END:STANDARD
END:VTIMEZONE
BEGIN:VEVENT
DTSTART;TZID=UTC:20240119T200000
DTEND;TZID=UTC:20240119T203000
DTSTAMP:20260424T210529
CREATED:20240120T053105Z
LAST-MODIFIED:20240127T015931Z
UID:3553-1705694400-1705696200@tradesensecommunity.com
SUMMARY:EVENT:  Trade Sense Community Website Launch
DESCRIPTION:This event has passed. \nTrade Sense Community Website Launched on 19th January\, 2024 \n 
URL:https://tradesensecommunity.com/event/trade-sense-community-website-launch/
LOCATION:ON
ORGANIZER;CN="Syed Rizvi":MAILTO:admin@TradeSenseCommunity.com
END:VEVENT
END:VCALENDAR